BEGIN:VCALENDAR
VERSION:2.0
PRODID:-//Tukios.com/
BEGIN:VEVENT
UID:d8011689-5e87-466c-bc98-c9471586fe5e@www.wilsonschapel.com
DTSTAMP:20260425T032811Z
DTSTART:20260504T170000Z
DTEND:20260504T180000Z
SUMMARY:Funeral for Gladys Alene Warren
DESCRIPTION:
URL:https://www.wilsonschapel.com/obituaries/gladys-warren
LOCATION:Roseburg National Cemetery 913 Northwest Garden Valley Boulevard 
	 Roseburg OR 97471
GEO:43.2256844;-123.3660849
END:VEVENT
END:VCALENDAR